BEGIN:VCALENDAR
VERSION:2.0
PRODID:SchoolNow
CALSCALE:GREGORIAN
BEGIN:VEVENT
UID:ab8f66a4-0484-11ee-87d8-0a708002cd73
DTSTAMP:20230606T161035Z
SUMMARY:Session 5 Ends
URL;VALUE=URI:https://www.fletcher.edu/calendar/4357945/session-5-ends
DTSTART:20240731T050000Z
DTEND:20240731T050020Z
END:VEVENT
END:VCALENDAR
