BEGIN:VCALENDAR
VERSION:2.0
PRODID:SchoolNow
CALSCALE:GREGORIAN
BEGIN:VEVENT
UID:ab8f5ed4-0484-11ee-be01-0a708002cd73
DTSTAMP:20230606T161035Z
SUMMARY:MTWR Final Exams
URL;VALUE=URI:https://www.fletcher.edu/calendar/4357944/mtwr-final-exams
DTSTART:20240730T050000Z
DTEND:20240731T050020Z
END:VEVENT
END:VCALENDAR
