BEGIN:VCALENDAR
VERSION:2.0
PRODID:SchoolNow
CALSCALE:GREGORIAN
BEGIN:VEVENT
UID:ab8f5aba-0484-11ee-bdd7-0a708002cd73
DTSTAMP:20230606T161035Z
SUMMARY:MW Exams
URL;VALUE=URI:https://www.fletcher.edu/calendar/4357943/mw-exams
DTSTART:20240729T050000Z
DTEND:20240729T050020Z
END:VEVENT
END:VCALENDAR
