BEGIN:VCALENDAR
VERSION:2.0
PRODID:SchoolNow
CALSCALE:GREGORIAN
BEGIN:VEVENT
UID:ab8f56c8-0484-11ee-868f-0a708002cd73
DTSTAMP:20230606T161035Z
SUMMARY:TR Classes Final Exams and last class day
URL;VALUE=URI:https://www.fletcher.edu/calendar/4357942/tr-classes-final-ex
 ams-and-last-class-day
DTSTART:20240725T050000Z
DTEND:20240725T050020Z
END:VEVENT
END:VCALENDAR
