BEGIN:VCALENDAR
VERSION:2.0
PRODID:SchoolNow
CALSCALE:GREGORIAN
BEGIN:VEVENT
UID:ab8f52a4-0484-11ee-accc-0a708002cd73
DTSTAMP:20230606T161035Z
SUMMARY:Last day for MW and MTWR classes
URL;VALUE=URI:https://www.fletcher.edu/calendar/4357941/last-day-for-mw-and
 -mtwr-classes
DTSTART:20240724T050000Z
DTEND:20240724T050020Z
END:VEVENT
END:VCALENDAR
