BEGIN:VCALENDAR
VERSION:2.0
PRODID:SchoolNow
CALSCALE:GREGORIAN
BEGIN:VEVENT
UID:ab8f4aa2-0484-11ee-ab3d-0a708002cd73
DTSTAMP:20230606T161035Z
SUMMARY:Fourth of July Holiday - College Closed
URL;VALUE=URI:https://www.fletcher.edu/calendar/4357939/fourth-of-july-holi
 day-college-closed
DTSTART:20240704T050000Z
DTEND:20240704T050020Z
END:VEVENT
END:VCALENDAR
