BEGIN:VCALENDAR
VERSION:2.0
PRODID:SchoolNow
CALSCALE:GREGORIAN
BEGIN:VEVENT
UID:ab8f4688-0484-11ee-866e-0a708002cd73
DTSTAMP:20230606T161035Z
SUMMARY:Juneteenth Student  Holiday
URL;VALUE=URI:https://www.fletcher.edu/calendar/4357938/juneteenth-student-
 holiday
DTSTART:20240617T050000Z
DTEND:20240617T050020Z
END:VEVENT
END:VCALENDAR
