BEGIN:VCALENDAR
VERSION:2.0
PRODID:SchoolNow
CALSCALE:GREGORIAN
BEGIN:VEVENT
UID:ab8f426e-0484-11ee-a892-0a708002cd73
DTSTAMP:20230606T161035Z
SUMMARY:Enrollment Census Day
URL;VALUE=URI:https://www.fletcher.edu/calendar/4357937/enrollment-census-d
 ay
DTSTART:20240611T050000Z
DTEND:20240611T050020Z
END:VEVENT
END:VCALENDAR
