BEGIN:VCALENDAR
VERSION:2.0
PRODID:SchoolNow
CALSCALE:GREGORIAN
BEGIN:VEVENT
UID:ab8f3a12-0484-11ee-b854-0a708002cd73
DTSTAMP:20230606T161035Z
SUMMARY:Summer Session & Session 5 Begin
URL;VALUE=URI:https://www.fletcher.edu/calendar/4357935/summer-session-sess
 ion-5-begin
DTSTART:20240603T050000Z
DTEND:20240603T050020Z
END:VEVENT
END:VCALENDAR
