BEGIN:VCALENDAR
VERSION:2.0
PRODID:SchoolNow
CALSCALE:GREGORIAN
BEGIN:VEVENT
UID:ab8f3616-0484-11ee-bdf3-0a708002cd73
DTSTAMP:20230606T161035Z
SUMMARY:Session 4 Ends
URL;VALUE=URI:https://www.fletcher.edu/calendar/4357934/session-4-ends
DTSTART:20240517T050000Z
DTEND:20240517T050020Z
END:VEVENT
END:VCALENDAR
