BEGIN:VCALENDAR
VERSION:2.0
PRODID:SchoolNow
CALSCALE:GREGORIAN
BEGIN:VEVENT
UID:ab8f31f2-0484-11ee-87e4-0a708002cd73
DTSTAMP:20230606T161035Z
SUMMARY:MTWR Classes Final Exams
URL;VALUE=URI:https://www.fletcher.edu/calendar/4357933/mtwr-classes-final-
 exams
DTSTART:20240516T050000Z
DTEND:20240517T050020Z
END:VEVENT
END:VCALENDAR
