BEGIN:VCALENDAR
VERSION:2.0
PRODID:SchoolNow
CALSCALE:GREGORIAN
BEGIN:VEVENT
UID:ab8f2dd8-0484-11ee-bd32-0a708002cd73
DTSTAMP:20230606T161035Z
SUMMARY:MW Classes Final Exams
URL;VALUE=URI:https://www.fletcher.edu/calendar/4357932/mw-classes-final-ex
 ams
DTSTART:20240515T050000Z
DTEND:20240515T050020Z
END:VEVENT
END:VCALENDAR
