BEGIN:VCALENDAR
VERSION:2.0
PRODID:SchoolNow
CALSCALE:GREGORIAN
BEGIN:VEVENT
UID:ab8f29e6-0484-11ee-90a2-0a708002cd73
DTSTAMP:20230606T161035Z
SUMMARY:MTWR Classes - last class of day
URL;VALUE=URI:https://www.fletcher.edu/calendar/4357931/mtwr-classes-last-c
 lass-of-day
DTSTART:20240514T050000Z
DTEND:20240514T050020Z
END:VEVENT
END:VCALENDAR
