BEGIN:VCALENDAR
VERSION:2.0
PRODID:SchoolNow
CALSCALE:GREGORIAN
BEGIN:VEVENT
UID:ab8f2194-0484-11ee-876a-0a708002cd73
DTSTAMP:20230606T161035Z
SUMMARY:Final Exam Days for full-term Classes
URL;VALUE=URI:https://www.fletcher.edu/calendar/4357929/final-exam-days-for
 -full-term-classes
DTSTART:20240514T050000Z
DTEND:20240517T050020Z
END:VEVENT
END:VCALENDAR
