BEGIN:VCALENDAR
VERSION:2.0
PRODID:SchoolNow
CALSCALE:GREGORIAN
BEGIN:VEVENT
UID:ab8f194c-0484-11ee-8f8d-0a708002cd73
DTSTAMP:20230606T161035Z
SUMMARY:Last Day to Withdraw from a full-term class
URL;VALUE=URI:https://www.fletcher.edu/calendar/4357927/last-day-to-withdra
 w-from-a-full-term-class
DTSTART:20240410T050000Z
DTEND:20240410T050020Z
END:VEVENT
END:VCALENDAR
