BEGIN:VCALENDAR
VERSION:2.0
PRODID:SchoolNow
CALSCALE:GREGORIAN
BEGIN:VEVENT
UID:ab8f14ce-0484-11ee-86cc-0a708002cd73
DTSTAMP:20230606T161035Z
SUMMARY:Spring Break
URL;VALUE=URI:https://www.fletcher.edu/calendar/4357926/spring-break
DTSTART:20240329T050000Z
DTEND:20240405T050020Z
END:VEVENT
END:VCALENDAR
