BEGIN:VCALENDAR
VERSION:2.0
PRODID:SchoolNow
CALSCALE:GREGORIAN
BEGIN:VEVENT
UID:ab8f10dc-0484-11ee-bce3-0a708002cd73
DTSTAMP:20230606T161035Z
SUMMARY:Last Day to Add/Drop a Session 4 Class
URL;VALUE=URI:https://www.fletcher.edu/calendar/4357925/last-day-to-add-dro
 p-a-session-4-class
DTSTART:20240321T050000Z
DTEND:20240321T050020Z
END:VEVENT
END:VCALENDAR
