BEGIN:VCALENDAR
VERSION:2.0
PRODID:SchoolNow
CALSCALE:GREGORIAN
BEGIN:VEVENT
UID:ab8f0cc2-0484-11ee-8c13-0a708002cd73
DTSTAMP:20230606T161035Z
SUMMARY:Session 4 Begins
URL;VALUE=URI:https://www.fletcher.edu/calendar/4357924/session-4-begins
DTSTART:20240320T050000Z
DTEND:20240320T050020Z
END:VEVENT
END:VCALENDAR
