BEGIN:VCALENDAR
VERSION:2.0
PRODID:SchoolNow
CALSCALE:GREGORIAN
BEGIN:VEVENT
UID:ab8f08c6-0484-11ee-8e76-0a708002cd73
DTSTAMP:20230606T161035Z
SUMMARY:Session 3 Ends
URL;VALUE=URI:https://www.fletcher.edu/calendar/4357923/session-3-ends
DTSTART:20240315T050000Z
DTEND:20240315T050020Z
END:VEVENT
END:VCALENDAR
