BEGIN:VCALENDAR
VERSION:2.0
PRODID:SchoolNow
CALSCALE:GREGORIAN
BEGIN:VEVENT
UID:ab8f04a2-0484-11ee-8f9e-0a708002cd73
DTSTAMP:20230606T161035Z
SUMMARY:MTWR Classes Final Exams
URL;VALUE=URI:https://www.fletcher.edu/calendar/4357922/mtwr-classes-final-
 exams
DTSTART:20240314T050000Z
DTEND:20240315T050020Z
END:VEVENT
END:VCALENDAR
