BEGIN:VCALENDAR
VERSION:2.0
PRODID:SchoolNow
CALSCALE:GREGORIAN
BEGIN:VEVENT
UID:ab8f007e-0484-11ee-8553-0a708002cd73
DTSTAMP:20230606T161035Z
SUMMARY:MW Classes Final Exams
URL;VALUE=URI:https://www.fletcher.edu/calendar/4357921/mw-classes-final-ex
 ams
DTSTART:20240313T050000Z
DTEND:20240313T050020Z
END:VEVENT
END:VCALENDAR
