BEGIN:VCALENDAR
VERSION:2.0
PRODID:SchoolNow
CALSCALE:GREGORIAN
BEGIN:VEVENT
UID:ab8efc8c-0484-11ee-85b2-0a708002cd73
DTSTAMP:20230606T161035Z
SUMMARY:MTWR Classes - last class of day
URL;VALUE=URI:https://www.fletcher.edu/calendar/4357920/mtwr-classes-last-c
 lass-of-day
DTSTART:20240312T050000Z
DTEND:20240312T050020Z
END:VEVENT
END:VCALENDAR
