BEGIN:VCALENDAR
VERSION:2.0
PRODID:SchoolNow
CALSCALE:GREGORIAN
BEGIN:VEVENT
UID:ab8ef868-0484-11ee-86f9-0a708002cd73
DTSTAMP:20230606T161035Z
SUMMARY:TR Classes Final Exams
URL;VALUE=URI:https://www.fletcher.edu/calendar/4357919/tr-classes-final-ex
 ams
DTSTART:20240312T050000Z
DTEND:20240312T050020Z
END:VEVENT
END:VCALENDAR
