BEGIN:VCALENDAR
VERSION:2.0
PRODID:SchoolNow
CALSCALE:GREGORIAN
BEGIN:VEVENT
UID:ab8ef00c-0484-11ee-9ac7-0a708002cd73
DTSTAMP:20230606T161035Z
SUMMARY:Mardi Gras Holiday
URL;VALUE=URI:https://www.fletcher.edu/calendar/4357917/mardi-gras-holiday
DTSTART:20240212T060000Z
DTEND:20240214T060020Z
END:VEVENT
END:VCALENDAR
