BEGIN:VCALENDAR
VERSION:2.0
PRODID:SchoolNow
CALSCALE:GREGORIAN
BEGIN:VEVENT
UID:ab8ee922-0484-11ee-979b-0a708002cd73
DTSTAMP:20230606T161035Z
SUMMARY:Enrollment Census
URL;VALUE=URI:https://www.fletcher.edu/calendar/4357916/enrollment-census
DTSTART:20240205T060000Z
DTEND:20240205T060020Z
END:VEVENT
END:VCALENDAR
