BEGIN:VCALENDAR
VERSION:2.0
PRODID:SchoolNow
CALSCALE:GREGORIAN
BEGIN:VEVENT
UID:ab8ee4b8-0484-11ee-8b22-0a708002cd73
DTSTAMP:20230606T161035Z
SUMMARY:Last Day to Add/Drop a full-term Class
URL;VALUE=URI:https://www.fletcher.edu/calendar/4357915/last-day-to-add-dro
 p-a-full-term-class
DTSTART:20240122T060000Z
DTEND:20240122T060020Z
END:VEVENT
END:VCALENDAR
