BEGIN:VCALENDAR
VERSION:2.0
PRODID:SchoolNow
CALSCALE:GREGORIAN
BEGIN:VEVENT
UID:ab8ee09e-0484-11ee-aa50-0a708002cd73
DTSTAMP:20230606T161035Z
SUMMARY:Last Day to Add/Drop a Session 3 Class
URL;VALUE=URI:https://www.fletcher.edu/calendar/4357914/last-day-to-add-dro
 p-a-session-3-class
DTSTART:20240118T060000Z
DTEND:20240118T060020Z
END:VEVENT
END:VCALENDAR
