BEGIN:VCALENDAR
VERSION:2.0
PRODID:SchoolNow
CALSCALE:GREGORIAN
BEGIN:VEVENT
UID:ab8edcb6-0484-11ee-9aef-0a708002cd73
DTSTAMP:20230606T161035Z
SUMMARY:Spring Semester & Session 3 Begin
URL;VALUE=URI:https://www.fletcher.edu/calendar/4357913/spring-semester-ses
 sion-3-begin
DTSTART:20240117T060000Z
DTEND:20240117T060020Z
END:VEVENT
END:VCALENDAR
