BEGIN:VCALENDAR
VERSION:2.0
PRODID:SchoolNow
CALSCALE:GREGORIAN
BEGIN:VEVENT
UID:ab8ed8ba-0484-11ee-bdd4-0a708002cd73
DTSTAMP:20230606T161035Z
SUMMARY:Martin Luther King\, Jr Holiday
URL;VALUE=URI:https://www.fletcher.edu/calendar/4357912/martin-luther-king-
 jr-holiday
DTSTART:20240115T060000Z
DTEND:20240115T060020Z
END:VEVENT
END:VCALENDAR
