BEGIN:VCALENDAR
VERSION:2.0
PRODID:SchoolNow
CALSCALE:GREGORIAN
BEGIN:VEVENT
UID:ab8ed4a0-0484-11ee-a16d-0a708002cd73
DTSTAMP:20230606T161035Z
SUMMARY:Session 2 Ends
URL;VALUE=URI:https://www.fletcher.edu/calendar/4357911/session-2-ends
DTSTART:20231215T060000Z
DTEND:20231215T060020Z
END:VEVENT
END:VCALENDAR
