BEGIN:VCALENDAR
VERSION:2.0
PRODID:SchoolNow
CALSCALE:GREGORIAN
BEGIN:VEVENT
UID:ab8ed0ae-0484-11ee-97c5-0a708002cd73
DTSTAMP:20230606T161035Z
SUMMARY:MTWR Classes Final Exams
URL;VALUE=URI:https://www.fletcher.edu/calendar/4357910/mtwr-classes-final-
 exams
DTSTART:20231214T060000Z
DTEND:20231215T060020Z
END:VEVENT
END:VCALENDAR
