BEGIN:VCALENDAR
VERSION:2.0
PRODID:SchoolNow
CALSCALE:GREGORIAN
BEGIN:VEVENT
UID:ab8ecca8-0484-11ee-a9f8-0a708002cd73
DTSTAMP:20230606T161035Z
SUMMARY:MW Classes Final Exams
URL;VALUE=URI:https://www.fletcher.edu/calendar/4357909/mw-classes-final-ex
 ams
DTSTART:20231213T060000Z
DTEND:20231213T060020Z
END:VEVENT
END:VCALENDAR
