BEGIN:VCALENDAR
VERSION:2.0
PRODID:SchoolNow
CALSCALE:GREGORIAN
BEGIN:VEVENT
UID:ab8ec41a-0484-11ee-abc4-0a708002cd73
DTSTAMP:20230606T161035Z
SUMMARY:MTWR Classes - last class of day
URL;VALUE=URI:https://www.fletcher.edu/calendar/4357908/mtwr-classes-last-c
 lass-of-day
DTSTART:20231212T060000Z
DTEND:20231212T060020Z
END:VEVENT
END:VCALENDAR
