BEGIN:VCALENDAR
VERSION:2.0
PRODID:SchoolNow
CALSCALE:GREGORIAN
BEGIN:VEVENT
UID:ab8ec01e-0484-11ee-a4b9-0a708002cd73
DTSTAMP:20230606T161035Z
SUMMARY:TR Classes Final Exams
URL;VALUE=URI:https://www.fletcher.edu/calendar/4357907/tr-classes-final-ex
 ams
DTSTART:20231212T060000Z
DTEND:20231212T060020Z
END:VEVENT
END:VCALENDAR
