BEGIN:VCALENDAR
VERSION:2.0
PRODID:SchoolNow
CALSCALE:GREGORIAN
BEGIN:VEVENT
UID:ab8eb7b8-0484-11ee-80fb-0a708002cd73
DTSTAMP:20230606T161035Z
SUMMARY:Last Day to Withdraw from a Session 2 class
URL;VALUE=URI:https://www.fletcher.edu/calendar/4357905/last-day-to-withdra
 w-from-a-session-2-class
DTSTART:20231129T060000Z
DTEND:20231129T060020Z
END:VEVENT
END:VCALENDAR
