BEGIN:VCALENDAR
VERSION:2.0
PRODID:SchoolNow
CALSCALE:GREGORIAN
BEGIN:VEVENT
UID:ab8eb330-0484-11ee-b70c-0a708002cd73
DTSTAMP:20230606T161035Z
SUMMARY:Thanksgiving Break
URL;VALUE=URI:https://www.fletcher.edu/calendar/4357904/thanksgiving-break
DTSTART:20231120T060000Z
DTEND:20231124T060020Z
END:VEVENT
END:VCALENDAR
