BEGIN:VCALENDAR
VERSION:2.0
PRODID:SchoolNow
CALSCALE:GREGORIAN
BEGIN:VEVENT
UID:ab8eab10-0484-11ee-96d4-0a708002cd73
DTSTAMP:20230606T161035Z
SUMMARY:Last Day to Add/Drop a Session 2 Class
URL;VALUE=URI:https://www.fletcher.edu/calendar/4357902/last-day-to-add-dro
 p-a-session-2-class
DTSTART:20231018T050000Z
DTEND:20231018T050020Z
END:VEVENT
END:VCALENDAR
