BEGIN:VCALENDAR
VERSION:2.0
PRODID:SchoolNow
CALSCALE:GREGORIAN
BEGIN:VEVENT
UID:ab8ea6e2-0484-11ee-8cc0-0a708002cd73
DTSTAMP:20230606T161035Z
SUMMARY:Session 2 Begins
URL;VALUE=URI:https://www.fletcher.edu/calendar/4357901/session-2-begins
DTSTART:20231017T050000Z
DTEND:20231017T050020Z
END:VEVENT
END:VCALENDAR
