BEGIN:VCALENDAR
VERSION:2.0
PRODID:SchoolNow
CALSCALE:GREGORIAN
BEGIN:VEVENT
UID:ab8e9a9e-0484-11ee-a89a-0a708002cd73
DTSTAMP:20230606T161035Z
SUMMARY:MTWR Classes Final Exams
URL;VALUE=URI:https://www.fletcher.edu/calendar/4357898/mtwr-classes-final-
 exams
DTSTART:20231010T050000Z
DTEND:20231011T050020Z
END:VEVENT
END:VCALENDAR
