BEGIN:VCALENDAR
VERSION:2.0
PRODID:SchoolNow
CALSCALE:GREGORIAN
BEGIN:VEVENT
UID:ab8e9698-0484-11ee-9367-0a708002cd73
DTSTAMP:20230606T161035Z
SUMMARY:MW Classes Final Exams
URL;VALUE=URI:https://www.fletcher.edu/calendar/4357897/mw-classes-final-ex
 ams
DTSTART:20231009T050000Z
DTEND:20231009T050020Z
END:VEVENT
END:VCALENDAR
