BEGIN:VCALENDAR
VERSION:2.0
PRODID:SchoolNow
CALSCALE:GREGORIAN
BEGIN:VEVENT
UID:ab8e8e50-0484-11ee-929f-0a708002cd73
DTSTAMP:20230606T161035Z
SUMMARY:TR Classes Final Exams
URL;VALUE=URI:https://www.fletcher.edu/calendar/4357895/tr-classes-final-ex
 ams
DTSTART:20231005T050000Z
DTEND:20231005T050020Z
END:VEVENT
END:VCALENDAR
