BEGIN:VCALENDAR
VERSION:2.0
PRODID:SchoolNow
CALSCALE:GREGORIAN
BEGIN:VEVENT
UID:ab8e89e6-0484-11ee-abea-0a708002cd73
DTSTAMP:20230606T161035Z
SUMMARY:Last Day to Withdraw from a Session 1 class
URL;VALUE=URI:https://www.fletcher.edu/calendar/4357894/last-day-to-withdra
 w-from-a-session-1-class
DTSTART:20230920T050000Z
DTEND:20230920T050020Z
END:VEVENT
END:VCALENDAR
