BEGIN:VCALENDAR
VERSION:2.0
PRODID:SchoolNow
CALSCALE:GREGORIAN
BEGIN:VEVENT
UID:ab8e8158-0484-11ee-a1d2-0a708002cd73
DTSTAMP:20230606T161035Z
SUMMARY:Labor Day Holiday
URL;VALUE=URI:https://www.fletcher.edu/calendar/4357892/labor-day-holiday
DTSTART:20230904T050000Z
DTEND:20230904T050020Z
END:VEVENT
END:VCALENDAR
