BEGIN:VCALENDAR
VERSION:2.0
PRODID:SchoolNow
CALSCALE:GREGORIAN
BEGIN:VEVENT
UID:dca28abe-03e4-11ee-b741-0ef2727b1fc9
DTSTAMP:20230605T210638Z
SUMMARY:First day of classes for Summer mini classes
URL;VALUE=URI:https://www.fletcher.edu/calendar/4353845/first-day-of-classe
 s-for-summer-mini-classes
DTSTART:20230626T050000Z
DTEND:20230626T050020Z
END:VEVENT
END:VCALENDAR
