BEGIN:VCALENDAR
VERSION:2.0
PRODID:SchoolNow
CALSCALE:GREGORIAN
BEGIN:VEVENT
UID:dca2841a-03e4-11ee-884e-0ef2727b1fc9
DTSTAMP:20230605T210638Z
SUMMARY:Last day to drop a Session 5 mini class & receive a refund
URL;VALUE=URI:https://www.fletcher.edu/calendar/4353844/last-day-to-drop-a-
 session-5-mini-class-receive-a-refund
DTSTART:20230625T050000Z
DTEND:20230625T050020Z
END:VEVENT
END:VCALENDAR
