BEGIN:VCALENDAR
VERSION:2.0
PRODID:SchoolNow
CALSCALE:GREGORIAN
BEGIN:VEVENT
UID:dca27664-03e4-11ee-bece-0ef2727b1fc9
DTSTAMP:20230605T210638Z
SUMMARY:Last day to add a Summer mini class
URL;VALUE=URI:https://www.fletcher.edu/calendar/4353843/last-day-to-add-a-s
 ummer-mini-class
DTSTART:20230625T050000Z
DTEND:20230625T050020Z
END:VEVENT
END:VCALENDAR
