BEGIN:VCALENDAR
VERSION:2.0
PRODID:SchoolNow
CALSCALE:GREGORIAN
BEGIN:VEVENT
UID:dca271dc-03e4-11ee-8859-0ef2727b1fc9
DTSTAMP:20230605T210638Z
SUMMARY:Juneteenth Student  Holiday
URL;VALUE=URI:https://www.fletcher.edu/calendar/4353842/juneteenth-student-
 holiday
DTSTART:20230619T050000Z
DTEND:20230619T050020Z
END:VEVENT
END:VCALENDAR
