BEGIN:VCALENDAR
VERSION:2.0
PRODID:SchoolNow
CALSCALE:GREGORIAN
BEGIN:VEVENT
UID:dca2662e-03e4-11ee-8e6c-0ef2727b1fc9
DTSTAMP:20230605T210638Z
SUMMARY:Last Day to Add/Drop a Session 5 Class
URL;VALUE=URI:https://www.fletcher.edu/calendar/4353840/last-day-to-add-dro
 p-a-session-5-class
DTSTART:20230605T050000Z
DTEND:20230605T050020Z
END:VEVENT
END:VCALENDAR
