BEGIN:VCALENDAR
VERSION:2.0
PRODID:SchoolNow
CALSCALE:GREGORIAN
BEGIN:VEVENT
UID:dca24ef0-03e4-11ee-9561-0ef2727b1fc9
DTSTAMP:20230605T210638Z
SUMMARY:Summer Session & Session 5 Begin
URL;VALUE=URI:https://www.fletcher.edu/calendar/4353839/summer-session-sess
 ion-5-begin
DTSTART:20230601T050000Z
DTEND:20230601T050020Z
END:VEVENT
END:VCALENDAR
