BEGIN:VCALENDAR
VERSION:2.0
PRODID:SchoolNow
CALSCALE:GREGORIAN
BEGIN:VEVENT
UID:07ac1e72-7b10-11ed-88e0-0e8d8876227f
DTSTAMP:20221213T180029Z
SUMMARY:Holiday - College Closed
URL;VALUE=URI:https://www.fletcher.edu/calendar/3643125/holiday-college-clo
 sed
DTSTART;VALUE=DATE:20231225
DTEND;VALUE=DATE:20231230
END:VEVENT
END:VCALENDAR
